BEGIN:VCALENDAR
VERSION:2.0
PRODID:-//The Computer Company - ECPv6.13.2.1//NONSGML v1.0//EN
CALSCALE:GREGORIAN
METHOD:PUBLISH
X-WR-CALNAME:The Computer Company
X-ORIGINAL-URL:https://staging.computercompany.net
X-WR-CALDESC:Events for The Computer Company
REFRESH-INTERVAL;VALUE=DURATION:PT1H
X-Robots-Tag:noindex
X-PUBLISHED-TTL:PT1H
BEGIN:VTIMEZONE
TZID:America/New_York
BEGIN:DAYLIGHT
TZOFFSETFROM:-0500
TZOFFSETTO:-0400
TZNAME:EDT
DTSTART:20240310T070000
END:DAYLIGHT
BEGIN:STANDARD
TZOFFSETFROM:-0400
TZOFFSETTO:-0500
TZNAME:EST
DTSTART:20241103T060000
END:STANDARD
BEGIN:DAYLIGHT
TZOFFSETFROM:-0500
TZOFFSETTO:-0400
TZNAME:EDT
DTSTART:20250309T070000
END:DAYLIGHT
BEGIN:STANDARD
TZOFFSETFROM:-0400
TZOFFSETTO:-0500
TZNAME:EST
DTSTART:20251102T060000
END:STANDARD
END:VTIMEZONE
BEGIN:VTIMEZONE
TZID:UTC
BEGIN:STANDARD
TZOFFSETFROM:+0000
TZOFFSETTO:+0000
TZNAME:UTC
DTSTART:20250101T000000
END:STANDARD
END:VTIMEZONE
BEGIN:VEVENT
DTSTART;TZID=America/New_York:20250724T150000
DTEND;TZID=America/New_York:20250724T163000
DTSTAMP:20260421T134906
CREATED:20250627T183229Z
LAST-MODIFIED:20250630T185617Z
UID:10000006-1753369200-1753374600@staging.computercompany.net
SUMMARY:Secure Your Future: Cybersecurity Awareness
DESCRIPTION:See full details
URL:https://staging.computercompany.net/event/secure-your-future-cybersecurity-awareness/
END:VEVENT
BEGIN:VEVENT
DTSTART;TZID=UTC:20250617T140000
DTEND;TZID=UTC:20250617T153000
DTSTAMP:20260421T134906
CREATED:20250512T191200Z
LAST-MODIFIED:20250516T173944Z
UID:10000005-1750168800-1750174200@staging.computercompany.net
SUMMARY:Navigating MyITInsights: A Hands-On Training
DESCRIPTION:
URL:https://staging.computercompany.net/event/event-june-17-2025/
END:VEVENT
BEGIN:VEVENT
DTSTART;TZID=America/New_York:20250410T140000
DTEND;TZID=America/New_York:20250410T170000
DTSTAMP:20260421T134906
CREATED:20250306T142331Z
LAST-MODIFIED:20250509T195847Z
UID:10000003-1744293600-1744304400@staging.computercompany.net
SUMMARY:Cybersecurity Awareness Day!
DESCRIPTION:Join Us for The Computer Company’sCybersecurity Awareness Day!\nIn today’s digital age\, cybersecurity is not just a luxury—it’s a necessity.\nBy attending this event\, you’ll gain valuable insights into protecting your business from cyber threats. Learn from industry experts about the latest trends and best practices in cybersecurity. This is a unique opportunity to network with professionals\, ask questions\, and see firsthand how The Computer Company is at the forefront of cybersecurity innovation. \nDon’t miss out on this chance to enhance your knowledge and safeguard your business. \n\n  \n\nDate: April 10\, 2025Time: 2:00 PM – 5:00 PMLocation: The Computer Company Inc. Headquarters15 Commerce Drive\, Cromwell CT \nEvent Schedule:\nEvent Schedule: 2:00 PM – 5:00 PM \nNetworking Snack Time/Data Center Tour – 30 Mins.Enjoy snacks and meet some of the TCC team. \nHow can you adopt a proactive cybersecurity strategy to protect your systems and safeguard valuable data? – 45 Mins.Q&A Have your questions answered by our expert team. \nNetworking/Break – 30 Mins. \nHow can you unlock the power of centralized IT management with the TCC Dashboard? – 45 Mins. \nNetworking/Break/Data Center Tour – 30 Mins. \nSign up for this FREE event!\nDon’t miss out!\n			\n			\n				\n				\n				\n				\n			\n				\n				\n			\n				\n				\n				\n				\n				\n				\n				\n				\n				\n				\n				\n				\n					\n					\n						\n						Check back for this Event to be repeated soon!\n						\n						Don’t miss out on future chances to enhance your knowledge and safeguard your business.
URL:https://staging.computercompany.net/event/cybersecurity-awareness-day/
END:VEVENT
BEGIN:VEVENT
DTSTART;TZID=America/New_York:20250123T140000
DTEND;TZID=America/New_York:20250123T170000
DTSTAMP:20260421T134906
CREATED:20241119T164918Z
LAST-MODIFIED:20241119T164918Z
UID:10000002-1737640800-1737651600@staging.computercompany.net
SUMMARY:Cybersecurity Awareness Day!
DESCRIPTION:  \nJoin Us for The Computer Company’s\nCybersecurity Awareness Day!\n  \n\n  \n\nDate: January 23\, 2025\nTime: 2:00 PM – 5:00 PM\nLocation: The Computer Company Inc. Headquarters\n15 Commerce Drive\, Cromwell CT \nEvent Schedule:\nEvent Schedule: 2:00 PM – 5:00 PM \nNetworking Snack Time/Data Center Tour – 30 Mins.\nEnjoy snacks and meet some of the TCC team. \nHow can you adopt a proactive cybersecurity strategy to protect your systems and safeguard valuable data? – 45 Mins.\nQ&A Have your questions answered by our expert team. \nNetworking/Break – 30 Mins. \nHow can you unlock the power of centralized IT management with the TCC Dashboard? – 45 Mins. \nNetworking/Break/Data Center Tour – 30 Mins. \nSign up for this event! Don’t miss out!
URL:https://staging.computercompany.net/event/tcc-event-1-23-25/
END:VEVENT
BEGIN:VEVENT
DTSTART;TZID=America/New_York:20241010T140000
DTEND;TZID=America/New_York:20241010T170000
DTSTAMP:20260421T134906
CREATED:20240411T142634Z
LAST-MODIFIED:20240411T142634Z
UID:10000001-1728568800-1728579600@staging.computercompany.net
SUMMARY:Cybersecurity Awareness Day!
DESCRIPTION:  \nJoin Us for The Computer Company’s\nCybersecurity Awareness Day!\n  \n\n  \n\nDate: October 10\, 2024\nTime: 2:00 PM – 5:00 PM\nLocation: The Computer Company Inc. Headquarters\n15 Commerce Drive\, Cromwell CT \nEvent Schedule:\nEvent Schedule: 2:00 PM – 5:00 PM \nNetworking Snack Time/Data Center Tour – 30 Mins.\nEnjoy snacks and meet some of the TCC team. \nHow can you adopt a proactive cybersecurity strategy to protect your systems and safeguard valuable data? – 45 Mins.\nQ&A Have your questions answered by our expert team. \nNetworking/Break – 30 Mins. \nHow can you unlock the power of centralized IT management with the TCC Dashboard? – 45 Mins. \nNetworking/Break/Data Center Tour – 30 Mins. \nSign up for this event! Don’t miss out!
URL:https://staging.computercompany.net/event/tcc-event-10-10-24/
END:VEVENT
END:VCALENDAR